BEGIN:VCALENDAR
VERSION:2.0
PRODID:gruene-augsburg.de
METHOD:PUBLISH
BEGIN:VTIMEZONE
TZID:Europe/Berlin
X-LIC-LOCATION:Europe/Berlin
BEGIN:DAYLIGHT
TZOFFSETFROM:+0100
TZOFFSETTO:+0200
TZNAME:CEST
DTSTART:19700329T020000
RRULE:FREQ=YEARLY;INTERVAL=1;BYDAY=-1SU;BYMONTH=3
END:DAYLIGHT
BEGIN:STANDARD
TZOFFSETFROM:+0200
TZOFFSETTO:+0100
TZNAME:CET
DTSTART:19701025T030000
RRULE:FREQ=YEARLY;INTERVAL=1;BYDAY=-1SU;BYMONTH=10
END:STANDARD
END:VTIMEZONE
BEGIN:VEVENT
UID:57d09e8dec426d11a401a7a99864e5da@gruene-augsburg.de
URL;VALUE=URI:https://gruene-augsburg.de/termine/52-bundesdelegiertenkonf
 erenz/
LOCATION:Berlin
SUMMARY:52. Bundesdelegiertenkonferenz
DESCRIPTION;ALTREP="data:text/html,%0A%3Cp%3EDie%2052.%20Bundesdelegierte
 nkonferenz%20findet%20zwischen%20dem%204.%20und%206.%20Dezember%202026%20
 in%20Berlin%20statt.%20Details%20folgen.%20%3C%2Fp%3E%0A":Die 52. Bundesd
 elegiertenkonferenz findet zwischen dem 4. und 6. Dezember 2026 in Berlin
  statt. Details folgen.
CLASS:PUBLIC
DTSTART;TZID=Europe/Berlin:20261204T122400
DTEND;TZID=Europe/Berlin:20261206T122400
DTSTAMP:20260423T174953
END:VEVENT
END:VCALENDAR