BEGIN:VCALENDAR
VERSION:2.0
PRODID:gruene-augsburg.de
METHOD:PUBLISH
BEGIN:VTIMEZONE
TZID:Europe/Berlin
X-LIC-LOCATION:Europe/Berlin
BEGIN:DAYLIGHT
TZOFFSETFROM:+0100
TZOFFSETTO:+0200
TZNAME:CEST
DTSTART:19700329T020000
RRULE:FREQ=YEARLY;INTERVAL=1;BYDAY=-1SU;BYMONTH=3
END:DAYLIGHT
BEGIN:STANDARD
TZOFFSETFROM:+0200
TZOFFSETTO:+0100
TZNAME:CET
DTSTART:19701025T030000
RRULE:FREQ=YEARLY;INTERVAL=1;BYDAY=-1SU;BYMONTH=10
END:STANDARD
END:VTIMEZONE
BEGIN:VEVENT
UID:28ab715af21acb231c4df207e1344729@gruene-augsburg.de
URL;VALUE=URI:https://gruene-augsburg.de/termine/5508/
LOCATION:Café Friedrichs, Hessingstr. 8, 86199 Augsburg
SUMMARY:Treffen der grünen Ortsgruppe Südwest
DESCRIPTION;ALTREP="data:text/html,%0A%3Cp%3EEine%20herzliche%20Einladung
 %20zum%20Treffen%20der%20gr%C3%BCnen%20Ortsgruppe%20S%C3%BCdwest%20am%20D
 ienstag%2C%2028.04.%20um%2019%3A00%20Uhr%20im%20%3Cstrong%3ECaf%C3%A9%20F
 riedrichs%3C%2Fstrong%3E%C2%A0%28Hessingstr.%208%2C%2086199%20Augsburg%29
 %3C%2Fp%3E%0A%0A%0A%0A%3Cp%3EDie%20Ortsgruppen%20unterst%C3%BCtzen%20die%
 20inhaltliche%20Arbeit%20der%20Augsburger%20Gr%C3%BCnen%20und%20greifen%2
 0vor%20Ort%20stadtteilspezifische%20Themen%20auf.%20Seien%20es%20Infoaben
 de%20zu%20politischen%20und%20gesellschaftlichen%20Themen%20wie%20Alltags
 rassismus%2C%20Abfallvermeidung%20oder%20Workshops%20zum%20Thema%20gr%C3%
 BCner%20leben%2C%20oder%20aber%20durch%20Aktionen%20wie%20%C3%B6ffentlich
 e%20Gemeinschaftsbeete%2C%20wollen%20wir%20verbinden%2C%20aktivieren%20un
 d%20mobilisieren.%20Komm%20zu%20unseren%20Treffen%20vorbei%20und%20bring%
 20Dich%20ein.%20Nat%C3%BCrlich%20freuen%20wir%20uns%20auch%20%C3%BCber%20
 Deine%20Vorschl%C3%A4ge%20und%20Unterst%C3%BCtzung%20bei%20der%20Umsetzun
 g.%20Gerne%20kannst%20Du%20auch%20interessierte%20Freund%2Ainnen%20und%20
 Bekannte%20mitbringen.%20Auch%20ohne%20Mitgliedschaft%20sind%20diese%20he
 rzlich%20willkommen.%20%3C%2Fp%3E%0A%0A%0A%0A%3Cp%3E%3Cem%3EDie%20Ortsgru
 ppe%20S%C3%BCdwest%20umfasst%20die%20Stadtteile%20G%C3%B6ggingen%2C%20Inn
 ingen%20und%20Bergheim.%3C%2Fem%3E%3C%2Fp%3E%0A":Eine herzliche Einladung
  zum Treffen der grünen Ortsgruppe Südwest am Dienstag\, 28.04. um 19:0
 0 Uhr im Café Friedrichs (Hessingstr. 8\, 86199 Augsburg)\n\nDie Ortsgr
 uppen unterstützen die inhaltliche Arbeit der Augsburger Grünen und gre
 ifen vor Ort stadtteilspezifische Themen auf. Seien es Infoabende zu poli
 tischen und gesellschaftlichen Themen wie Alltagsrassismus\, Abfallvermei
 dung oder Workshops zum Thema grüner leben\, oder aber durch Aktionen wi
 e öffentliche Gemeinschaftsbeete\, wollen wir verbinden\, aktivieren und
  mobilisieren. Komm zu unseren Treffen vorbei und bring Dich ein. Natürl
 ich freuen wir uns auch über Deine Vorschläge und Unterstützung bei de
 r Umsetzung. Gerne kannst Du auch interessierte Freund*innen und Bekannte
  mitbringen. Auch ohne Mitgliedschaft sind diese herzlich willkommen.\n\n
 Die Ortsgruppe Südwest umfasst die Stadtteile Göggingen\, Inningen und 
 Bergheim.
CLASS:PUBLIC
DTSTART;TZID=Europe/Berlin:20260428T190000
DTEND;TZID=Europe/Berlin:20260428T200000
DTSTAMP:20260423T142457
END:VEVENT
END:VCALENDAR