BEGIN:VCALENDAR
VERSION:2.0
PRODID:gruene-augsburg.de
METHOD:PUBLISH
BEGIN:VTIMEZONE
TZID:Europe/Berlin
X-LIC-LOCATION:Europe/Berlin
BEGIN:DAYLIGHT
TZOFFSETFROM:+0100
TZOFFSETTO:+0200
TZNAME:CEST
DTSTART:19700329T020000
RRULE:FREQ=YEARLY;INTERVAL=1;BYDAY=-1SU;BYMONTH=3
END:DAYLIGHT
BEGIN:STANDARD
TZOFFSETFROM:+0200
TZOFFSETTO:+0100
TZNAME:CET
DTSTART:19701025T030000
RRULE:FREQ=YEARLY;INTERVAL=1;BYDAY=-1SU;BYMONTH=10
END:STANDARD
END:VTIMEZONE
BEGIN:VEVENT
UID:562ff91ff4488ff48918c9d6f4810f5c@gruene-augsburg.de
URL;VALUE=URI:https://gruene-augsburg.de/termine/5514/
LOCATION:Grünes Büro, Katharinengasse 34
SUMMARY:Treffen des grünen Arbeitskreises Wirtschaft, Digitales und Fina
 nzen
DESCRIPTION;ALTREP="data:text/html,%0A%3Cp%3EGr%C3%BCne%20Wirtschaft%20de
 nken.%20Digitalisierung%20gestalten.%20Finanzen%20nachhaltig%20lenken.%3C
 br%3EIm%20Arbeitskreis%20Wirtschaft%2C%20Digitales%20%26amp%3B%20Finanzen
 %20des%20Stadtverbands%20Augsburg%20diskutieren%20wir%2C%20wie%20eine%20z
 ukunftsf%C3%A4hige%2C%20sozial%20gerechte%20und%20%C3%B6kologische%20Wirt
 schaftspolitik%20aussehen%20kann%20%E2%80%93%20lokal%2C%20bayernweit%20un
 d%20global.%3Cbr%3EOb%20nachhaltiges%20Wirtschaften%2C%20digitale%20Teilh
 abe%2C%20faire%20Haushaltsf%C3%BChrung%20oder%20Innovationsf%C3%B6rderung
 %3A%20Wir%20freuen%20uns%20%C3%BCber%20alle%2C%20die%20Interesse%20an%20d
 iesen%20Themen%20mitbringen%20%E2%80%93%20mit%20oder%20ohne%20Vorkenntnis
 se.%20Komm%20vorbei%2C%20bring%20deine%20Perspektive%20ein%20und%20gestal
 te%20mit%20uns%20gr%C3%BCne%20Antworten%20auf%20die%20Herausforderungen%2
 0von%20heute%20und%20morgen%21%3C%2Fp%3E%0A%0A%0A%0A%3Cp%3EHast%20Du%20Lu
 st%20bekommen%20mitzumachen%3F%20Komm%20gerne%20vorbei%21%20Das%20n%C3%A4
 chste%20Treffen%20findet%20am%20%3Cstrong%3EMittwoch%2C%2017.06.%2C%20um%
 2019%20Uhr%20im%20Gr%C3%BCnen%20B%C3%BCro%20%3C%2Fstrong%3Estatt.%20Die%2
 0Sitzung%20ist%20offen%20auch%20f%C3%BCr%20Nicht-Mitglieder.%3C%2Fp%3E%0A
 ":Grüne Wirtschaft denken. Digitalisierung gestalten. Finanzen nachhalti
 g lenken.Im Arbeitskreis Wirtschaft\, Digitales & Finanzen des Stadtverba
 nds Augsburg diskutieren wir\, wie eine zukunftsfähige\, sozial gerechte
  und ökologische Wirtschaftspolitik aussehen kann – lokal\, bayernweit
  und global.Ob nachhaltiges Wirtschaften\, digitale Teilhabe\, faire Haus
 haltsführung oder Innovationsförderung: Wir freuen uns über alle\, die
  Interesse an diesen Themen mitbringen – mit oder ohne Vorkenntnisse. K
 omm vorbei\, bring deine Perspektive ein und gestalte mit uns grüne Antw
 orten auf die Herausforderungen von heute und morgen!\n\nHast Du Lust bek
 ommen mitzumachen? Komm gerne vorbei! Das nächste Treffen findet am Mitt
 woch\, 17.06.\, um 19 Uhr im Grünen Büro statt. Die Sitzung ist offen a
 uch für Nicht-Mitglieder.
CLASS:PUBLIC
DTSTART;TZID=Europe/Berlin:20260617T190000
DTEND;TZID=Europe/Berlin:20260617T210000
DTSTAMP:20260423T180049
END:VEVENT
END:VCALENDAR