BEGIN:VCALENDAR
VERSION:2.0
PRODID:gruene-augsburg.de
METHOD:PUBLISH
BEGIN:VTIMEZONE
TZID:Europe/Berlin
X-LIC-LOCATION:Europe/Berlin
BEGIN:DAYLIGHT
TZOFFSETFROM:+0100
TZOFFSETTO:+0200
TZNAME:CEST
DTSTART:19700329T020000
RRULE:FREQ=YEARLY;INTERVAL=1;BYDAY=-1SU;BYMONTH=3
END:DAYLIGHT
BEGIN:STANDARD
TZOFFSETFROM:+0200
TZOFFSETTO:+0100
TZNAME:CET
DTSTART:19701025T030000
RRULE:FREQ=YEARLY;INTERVAL=1;BYDAY=-1SU;BYMONTH=10
END:STANDARD
END:VTIMEZONE
BEGIN:VEVENT
UID:5fc8510dc2fee9ca72bedfc5c3a83b4b@gruene-augsburg.de
URL;VALUE=URI:https://gruene-augsburg.de/termine/aus-worten-werden-taten-
 ein-braunbuch/
LOCATION:Karo 10, Karolinenstraße 10, 86150 Augsburg
SUMMARY:Aus Worten werden Taten – Ein Braunbuch
DESCRIPTION;ALTREP="data:text/html,%0A%3Cp%3EWie%20extrem%20sind%20die%20
 Aussagen%20der%20%3Cstrong%3EAfD%3C%2Fstrong%3E%20im%20Bayerischen%20Land
 tag%3F%20%3C%2Fp%3E%0A%0A%0A%0A%3Cp%3EDie%20Landtagsabgeordneten%20%3Cstr
 ong%3EToni%20Schuberl%20%3C%2Fstrong%3Eund%20%3Cstrong%3ECemal%20Bozo%C4%
 9Flu%3C%2Fstrong%3E%20stellen%20das%20Buchprojekt%20%E2%80%9EAus%20Worten
 %20werden%20Taten%E2%80%9C%20vor.%20Darin%20hat%20die%20gr%C3%BCne%20Land
 tagsfraktion%20krasse%20Aussagen%20der%20AfD%20im%20Bayerischen%20Landtag
 %20gesammelt%20und%20anhand%20von%20Extremismuskriterien%20intensiv%20ana
 lysiert.%20%3C%2Fp%3E%0A%0A%0A%0A%3Cp%3EDer%20Abend%20bietet%20Einblicke%
 20in%20die%20Recherche%20und%20Raum%20f%C3%BCr%20Diskussion.%20%3C%2Fp%3E
 %0A%0A%0A%0A%3Cp%3EDurchgef%C3%BChrt%20wird%20das%20Ganze%20im%20Rahmen%2
 0der%20%3Cstrong%3EWochen%20Gegen%20Rassismus%3C%2Fstrong%3E.%3C%2Fp%3E%0
 A":Wie extrem sind die Aussagen der AfD im Bayerischen Landtag?\n\nDie La
 ndtagsabgeordneten Toni Schuberl und Cemal Bozoğlu stellen das Buchproje
 kt „Aus Worten werden Taten“ vor. Darin hat die grüne Landtagsfrakti
 on krasse Aussagen der AfD im Bayerischen Landtag gesammelt und anhand vo
 n Extremismuskriterien intensiv analysiert.\n\nDer Abend bietet Einblicke
  in die Recherche und Raum für Diskussion.\n\nDurchgeführt wird das Gan
 ze im Rahmen der Wochen Gegen Rassismus.
CLASS:PUBLIC
DTSTART;TZID=Europe/Berlin:20260318T190000
DTEND;TZID=Europe/Berlin:20260318T210000
DTSTAMP:20260423T194317
END:VEVENT
END:VCALENDAR