BEGIN:VCALENDAR
VERSION:2.0
PRODID:gruene-augsburg.de
METHOD:PUBLISH
BEGIN:VTIMEZONE
TZID:Europe/Berlin
X-LIC-LOCATION:Europe/Berlin
BEGIN:DAYLIGHT
TZOFFSETFROM:+0100
TZOFFSETTO:+0200
TZNAME:CEST
DTSTART:19700329T020000
RRULE:FREQ=YEARLY;INTERVAL=1;BYDAY=-1SU;BYMONTH=3
END:DAYLIGHT
BEGIN:STANDARD
TZOFFSETFROM:+0200
TZOFFSETTO:+0100
TZNAME:CET
DTSTART:19701025T030000
RRULE:FREQ=YEARLY;INTERVAL=1;BYDAY=-1SU;BYMONTH=10
END:STANDARD
END:VTIMEZONE
BEGIN:VEVENT
UID:16a70aae9f985d1a9539472b478c8551@gruene-augsburg.de
URL;VALUE=URI:https://gruene-augsburg.de/termine/austausch-mit-felix-bana
 szak/
LOCATION:Riegele Biermanufaktur, Frölichstraße 26, 86150 Augsburg
SUMMARY:Auf ein Bier mit Felix Banaszak und Martina Wild!
DESCRIPTION;ALTREP="data:text/html,%0A%3Cp%3E%3Cstrong%3EEine%20Woche%20v
 or%20der%20Kommunalwahl%20wird%20Augsburg%20zum%20politischen%20Hotspot%3
 A%3C%2Fstrong%3E%3Cbr%3EWir%20laden%20herzlich%20ein%20zum%20Austausch%20
 mit%20dem%20Bundesparteivorsitzenden%26nbsp%3B%3Cstrong%3EFelix%20Banasza
 k%3C%2Fstrong%3E%21%3C%2Fp%3E%0A%0A%0A%0A%3Cp%3EAm%26nbsp%3B%3Cstrong%3E2
 8.%20Februar%202026%20um%2019%20Uhr%3C%2Fstrong%3E%26nbsp%3Bdiskutieren%2
 0wir%20in%20der%26nbsp%3B%3Cstrong%3ERiegele%20Biermanufaktur%3C%2Fstrong
 %3E%26nbsp%3B%C3%BCber%20die%20zentralen%20Fragen%20dieser%20Wahl%3A%20Wi
 e%20gestalten%20wir%20unsere%20Stadt%20sozial%2C%20klimagerecht%20und%20z
 ukunftsf%C3%A4hig%3F%3C%2Fp%3E%0A%0A%0A%0A%3Cp%3EGemeinsam%20mit%C2%A0%3C
 strong%3EMartina%20Wild%3C%2Fstrong%3E%2C%20Oberb%C3%BCrgermeisterkandida
 tin%20der%20Gr%C3%BCnen%2C%20wird%20der%20Abend%20zum%20echten%C2%A0%3Cst
 rong%3EWahlkampf-Highlight%3C%2Fstrong%3E.%3Cbr%3EStellt%20eure%20Fragen%
 2C%20diskutiert%20mit%20%E2%80%93%20und%20bringt%20euch%20ein%21%3C%2Fp%3
 E%0A%0A%0A%0A%3Cp%3E%3C%2Fp%3E%0A":Eine Woche vor der Kommunalwahl wird A
 ugsburg zum politischen Hotspot:Wir laden herzlich ein zum Austausch mit 
 dem Bundesparteivorsitzenden Felix Banaszak!\n\nAm 28. Februar 2026 um 
 19 Uhr diskutieren wir in der Riegele Biermanufaktur über die zentral
 en Fragen dieser Wahl: Wie gestalten wir unsere Stadt sozial\, klimagerec
 ht und zukunftsfähig?\n\nGemeinsam mit Martina Wild\, Oberbürgermeiste
 rkandidatin der Grünen\, wird der Abend zum echten Wahlkampf-Highlight.
 Stellt eure Fragen\, diskutiert mit – und bringt euch ein!
CLASS:PUBLIC
DTSTART;TZID=Europe/Berlin:20260228T190000
DTEND;TZID=Europe/Berlin:20260228T210000
DTSTAMP:20260423T194128
END:VEVENT
END:VCALENDAR