BEGIN:VCALENDAR
VERSION:2.0
PRODID:gruene-augsburg.de
METHOD:PUBLISH
BEGIN:VTIMEZONE
TZID:Europe/Berlin
X-LIC-LOCATION:Europe/Berlin
BEGIN:DAYLIGHT
TZOFFSETFROM:+0100
TZOFFSETTO:+0200
TZNAME:CEST
DTSTART:19700329T020000
RRULE:FREQ=YEARLY;INTERVAL=1;BYDAY=-1SU;BYMONTH=3
END:DAYLIGHT
BEGIN:STANDARD
TZOFFSETFROM:+0200
TZOFFSETTO:+0100
TZNAME:CET
DTSTART:19701025T030000
RRULE:FREQ=YEARLY;INTERVAL=1;BYDAY=-1SU;BYMONTH=10
END:STANDARD
END:VTIMEZONE
BEGIN:VEVENT
UID:abe9c9ee617769cd73d753de4c1cbd3f@gruene-augsburg.de
URL;VALUE=URI:https://gruene-augsburg.de/termine/csd-augsburg/
LOCATION:Route folgt, Augsburg
SUMMARY:CSD Augsburg
DESCRIPTION;ALTREP="data:text/html,%0A%3Cp%3EAuf%20zum%20Christopher%20St
 reet%20Day%20in%20Augsburg%21%20Wir%20Gr%C3%BCne%20sind%20nat%C3%BCrlich%
 20auch%20mit%20dabei%20und%20freuen%20uns%20auf%20einen%20Tag%20voller%20
 Regenbogen%20und%20Sonnenblumen%20mit%20dir.%20Komm%20mit%20am%2013.%20Ju
 ni%20und%20feier%20die%20Liebe%21%3C%2Fp%3E%0A%0A%0A%0A%3Cp%3EDetails%20f
 olgen.%3C%2Fp%3E%0A%0A%0A%0A%3Cp%3EHier%20gibt%E2%80%99s%C2%A0%3Ca%20href
 %3D%22https%3A%2F%2Fwww.csd-augsburg.de%2F%22%3Emehr%20Infos%3C%2Fa%3E.%2
 0%3C%2Fp%3E%0A":Auf zum Christopher Street Day in Augsburg! Wir Grüne si
 nd natürlich auch mit dabei und freuen uns auf einen Tag voller Regenbog
 en und Sonnenblumen mit dir. Komm mit am 13. Juni und feier die Liebe!\n\
 nDetails folgen.\n\nHier gibt’s mehr Infos.
CLASS:PUBLIC
DTSTART;TZID=Europe/Berlin:20260613T110000
DTEND;TZID=Europe/Berlin:20260613T160000
DTSTAMP:20260423T180100
END:VEVENT
END:VCALENDAR