BEGIN:VCALENDAR
VERSION:2.0
PRODID:gruene-augsburg.de
METHOD:PUBLISH
BEGIN:VTIMEZONE
TZID:Europe/Berlin
X-LIC-LOCATION:Europe/Berlin
BEGIN:DAYLIGHT
TZOFFSETFROM:+0100
TZOFFSETTO:+0200
TZNAME:CEST
DTSTART:19700329T020000
RRULE:FREQ=YEARLY;INTERVAL=1;BYDAY=-1SU;BYMONTH=3
END:DAYLIGHT
BEGIN:STANDARD
TZOFFSETFROM:+0200
TZOFFSETTO:+0100
TZNAME:CET
DTSTART:19701025T030000
RRULE:FREQ=YEARLY;INTERVAL=1;BYDAY=-1SU;BYMONTH=10
END:STANDARD
END:VTIMEZONE
BEGIN:VEVENT
UID:899777b1871e6bba1190c9b5b215ef85@gruene-augsburg.de
URL;VALUE=URI:https://gruene-augsburg.de/termine/europafest-gruener-infos
 tand/
LOCATION:Rathausplatz, Augsburg
SUMMARY:Europafest: Grüner Infostand
DESCRIPTION;ALTREP="data:text/html,%0A%3Cp%3EDas%20Europafest%20in%20Augs
 burg%20findet%20im%20Rahmen%20der%20Augsburger%20Europawochen%202026%20st
 att%2C%20die%20vom%C2%A0%3Cstrong%3E30.%20April%20bis%2031.%20Mai%202026%
 3C%2Fstrong%3E%C2%A0geplant%20sind.%20%3C%2Fp%3E%0A%0A%0A%0A%3Cp%3EAm%209
 .%20Mai%20beteiligen%20wir%20uns%20mit%20einem%20Gr%C3%BCnen%20Infostand%
 20am%20Europafest%20auf%20dem%20Rathausplatz.%20Uhrzeit%20folgt.%3C%2Fp%3
 E%0A%0A%0A%0A%3Cp%3EWir%20freuen%20uns%20%C3%BCber%20Besuch%21%3C%2Fp%3E%
 0A":Das Europafest in Augsburg findet im Rahmen der Augsburger Europawoch
 en 2026 statt\, die vom 30. April bis 31. Mai 2026 geplant sind.\n\nAm 
 9. Mai beteiligen wir uns mit einem Grünen Infostand am Europafest auf d
 em Rathausplatz. Uhrzeit folgt.\n\nWir freuen uns über Besuch!
CLASS:PUBLIC
DTSTART;TZID=Europe/Berlin:20260509T110000
DTEND;TZID=Europe/Berlin:20260509T170000
DTSTAMP:20260423T180100
END:VEVENT
END:VCALENDAR