BEGIN:VCALENDAR
VERSION:2.0
PRODID:gruene-augsburg.de
METHOD:PUBLISH
BEGIN:VTIMEZONE
TZID:Europe/Berlin
X-LIC-LOCATION:Europe/Berlin
BEGIN:DAYLIGHT
TZOFFSETFROM:+0100
TZOFFSETTO:+0200
TZNAME:CEST
DTSTART:19700329T020000
RRULE:FREQ=YEARLY;INTERVAL=1;BYDAY=-1SU;BYMONTH=3
END:DAYLIGHT
BEGIN:STANDARD
TZOFFSETFROM:+0200
TZOFFSETTO:+0100
TZNAME:CET
DTSTART:19701025T030000
RRULE:FREQ=YEARLY;INTERVAL=1;BYDAY=-1SU;BYMONTH=10
END:STANDARD
END:VTIMEZONE
BEGIN:VEVENT
UID:809df0ebd9d02550dcb2088e6f2af60f@gruene-augsburg.de
URL;VALUE=URI:https://gruene-augsburg.de/termine/gruene-wassertour-nachho
 ltermin/
LOCATION:Naturschutzgebiet Siebenbrunn
SUMMARY:GRÜNE Wassertour (Nachholtermin)
DESCRIPTION;ALTREP="data:text/html,%0A%3Cp%3EWir%20holen%20die%20ausgefal
 lene%20Tour%20vom%20Oktober%20nach%20und%20freuen%20uns%2C%20euch%20am%20
 %3Cstrong%3E14.%20Februar%20von%2011%E2%80%9313%20Uhr%3C%2Fstrong%3E%20wi
 eder%20im%20wundersch%C3%B6nen%20%3Cstrong%3ENaturschutzgebiet%20Siebenbr
 unn%3C%2Fstrong%3E%20begr%C3%BC%C3%9Fen%20zu%20k%C3%B6nnen.%3C%2Fp%3E%0A%
 0A%0A%0A%3Cp%3EEin%20F%C3%BChrer%20nimmt%20uns%20mit%20in%20die%20faszini
 erenden%20Zusammenh%C3%A4nge%20rund%20um%20Wasser%2C%20Natur%20und%20Schu
 tzgebiete.%20%3C%2Fp%3E%0A%0A%0A%0A%3Cp%3EPackt%20euch%20warm%20ein%20%E2
 %80%93%20es%20lohnt%20sich.%20Wir%20freuen%20uns%20auf%20euch%21%3C%2Fp%3
 E%0A%0A%0A%0A%3Cp%3E%3Cstrong%3EDetails%20folgen.%3C%2Fstrong%3E%3C%2Fp%3
 E%0A%0A%0A%0A%3Cp%3E%3C%2Fp%3E%0A":Wir holen die ausgefallene Tour vom Ok
 tober nach und freuen uns\, euch am 14. Februar von 11–13 Uhr wieder im
  wunderschönen Naturschutzgebiet Siebenbrunn begrüßen zu können.\n\nE
 in Führer nimmt uns mit in die faszinierenden Zusammenhänge rund um Was
 ser\, Natur und Schutzgebiete.\n\nPackt euch warm ein – es lohnt sich. 
 Wir freuen uns auf euch!\n\nDetails folgen.
CLASS:PUBLIC
DTSTART;TZID=Europe/Berlin:20260214T110000
DTEND;TZID=Europe/Berlin:20260214T130000
DTSTAMP:20260423T200719
END:VEVENT
END:VCALENDAR