BEGIN:VCALENDAR
VERSION:2.0
PRODID:gruene-augsburg.de
METHOD:PUBLISH
BEGIN:VTIMEZONE
TZID:Europe/Berlin
X-LIC-LOCATION:Europe/Berlin
BEGIN:DAYLIGHT
TZOFFSETFROM:+0100
TZOFFSETTO:+0200
TZNAME:CEST
DTSTART:19700329T020000
RRULE:FREQ=YEARLY;INTERVAL=1;BYDAY=-1SU;BYMONTH=3
END:DAYLIGHT
BEGIN:STANDARD
TZOFFSETFROM:+0200
TZOFFSETTO:+0100
TZNAME:CET
DTSTART:19701025T030000
RRULE:FREQ=YEARLY;INTERVAL=1;BYDAY=-1SU;BYMONTH=10
END:STANDARD
END:VTIMEZONE
BEGIN:VEVENT
UID:5fe188a9f024210c2627b40b8df0bf5e@gruene-augsburg.de
URL;VALUE=URI:https://gruene-augsburg.de/termine/kommunalwahl-2026/
LOCATION:Augsburg
SUMMARY:Kommunalwahl 2026!
DESCRIPTION;ALTREP="data:text/html,%0A%3Cp%3EAm%20%3Cstrong%3E08.%20M%C3%
 A4rz%3C%2Fstrong%3E%20ist%20die%3Cstrong%3E%20Kommunalwahl%3C%2Fstrong%3E
 %202026%21%3C%2Fp%3E%0A%0A%0A%0A%3Cp%3EJede%20Stimme%20z%C3%A4hlt.%20DEIN
 E%20Stimme%20z%C3%A4hlt%21%20%3C%2Fp%3E%0A%0A%0A%0A%3Cp%3EW%C3%A4hle%20de
 mokratisch%2C%20w%C3%A4hle%20%3Cstrong%3EGR%C3%9CN%3C%2Fstrong%3E%20und%2
 0w%C3%A4hle%20Wild%21%3C%2Fp%3E%0A%0A%0A%0A%3Chr%20class%3D%22wp-block-se
 parator%20has-alpha-channel-opacity%22%20%2F%3E%0A%0A%0A%0A%3Cp%3EUnsere%
 20Oberb%C3%BCrgermeisterkandidatin%20%3Cstrong%3EMartina%20Wild%2C%3C%2Fs
 trong%3E%20erkl%C3%A4rt%20in%2060%20Sekunden%20wie%20das%20W%C3%A4hlen%20
 bei%20der%20Kommunalwahl%20funktioniert%2C%20mehr%20dazu%20%3Ca%20href%3D
 %22https%3A%2F%2Fwww.instagram.com%2Fp%2FDUfq9CjgacG%2F%22%3Ehier.%3C%2Fa
 %3E%3C%2Fp%3E%0A%0A%0A%0A%3Cp%3EDie%20Stadt%20Augsburg%20informiert%20ebe
 nfalls%20dar%C3%BCber%20wie%20das%20W%C3%A4hlen%20funktioniert%2C%20gibt%
 20Antworten%20auf%20h%C3%A4ufig%20gestellte%20Fragen%20und%20bietet%20sog
 ar%20einen%20Probestimmzettel%20an.%20Mehr%20dazu%20%3Ca%20href%3D%22http
 s%3A%2F%2Fwww.augsburg.de%2Fbuergerservice-rathaus%2Frathaus%2Fwahlen-abs
 timmungen%2Fkommunalwahl-2026%22%3Ehier.%3C%2Fa%3E%3C%2Fp%3E%0A%0A%0A%0A%
 3Cp%3E%3C%2Fp%3E%0A":Am 08. März ist die Kommunalwahl 2026!\n\nJede Stim
 me zählt. DEINE Stimme zählt!\n\nWähle demokratisch\, wähle GRÜN und
  wähle Wild!\n\nUnsere Oberbürgermeisterkandidatin Martina Wild\, erkl
 ärt in 60 Sekunden wie das Wählen bei der Kommunalwahl funktioniert\, m
 ehr dazu hier.\n\nDie Stadt Augsburg informiert ebenfalls darüber wie da
 s Wählen funktioniert\, gibt Antworten auf häufig gestellte Fragen und 
 bietet sogar einen Probestimmzettel an. Mehr dazu hier.
CLASS:PUBLIC
DTSTART;TZID=Europe/Berlin:20260308
DTEND;TZID=Europe/Berlin:20260309
DTSTAMP:20260421T100030
END:VEVENT
END:VCALENDAR