BEGIN:VCALENDAR
VERSION:2.0
PRODID:gruene-augsburg.de
METHOD:PUBLISH
BEGIN:VTIMEZONE
TZID:Europe/Berlin
X-LIC-LOCATION:Europe/Berlin
BEGIN:DAYLIGHT
TZOFFSETFROM:+0100
TZOFFSETTO:+0200
TZNAME:CEST
DTSTART:19700329T020000
RRULE:FREQ=YEARLY;INTERVAL=1;BYDAY=-1SU;BYMONTH=3
END:DAYLIGHT
BEGIN:STANDARD
TZOFFSETFROM:+0200
TZOFFSETTO:+0100
TZNAME:CET
DTSTART:19701025T030000
RRULE:FREQ=YEARLY;INTERVAL=1;BYDAY=-1SU;BYMONTH=10
END:STANDARD
END:VTIMEZONE
BEGIN:VEVENT
UID:c05d21e9eb2905f4dcfddf381160c57c@gruene-augsburg.de
URL;VALUE=URI:https://gruene-augsburg.de/termine/pflanzentreff/
LOCATION:Mehrgenerationentreff Lechhausen, Blücherstraße 1, 86165 Augsb
 urg
SUMMARY:Pflanzentreff
DESCRIPTION;ALTREP="data:text/html,%0A%3Cp%3EAm%20Sonntag%20%3Cstrong%3Ed
 en%2015.02%3C%2Fstrong%3E.%20um%20%3Cstrong%3E16%20Uhr%3C%2Fstrong%3E%20h
 abt%20ihr%20die%20M%C3%B6glichkeit%20eure%20Pflanzen-%20und%20Saatgut-Sor
 timent%20kostenlos%20aufzustocken.%20Ihr%20k%C3%B6nnt%20au%C3%9Ferdem%20e
 ure%20eigenen%20Pflanzen%20oder%20euer%20Saatgut%20miteinander%20teilen%2
 0und%20tauschen.%20%3C%2Fp%3E%0A%0A%0A%0A%3Cp%3ESchaut%20also%20gerne%20i
 m%20%3Cstrong%3EMehrgenerationentreff%20in%20Lechhausen%3C%2Fstrong%3E%20
 vorbei%21%3C%2Fp%3E%0A":Am Sonntag den 15.02. um 16 Uhr habt ihr die Mög
 lichkeit eure Pflanzen- und Saatgut-Sortiment kostenlos aufzustocken. Ihr
  könnt außerdem eure eigenen Pflanzen oder euer Saatgut miteinander tei
 len und tauschen.\n\nSchaut also gerne im Mehrgenerationentreff in Lechha
 usen vorbei!
CLASS:PUBLIC
DTSTART;TZID=Europe/Berlin:20260215T160000
DTEND;TZID=Europe/Berlin:20260215T180000
DTSTAMP:20260423T193831
END:VEVENT
END:VCALENDAR