BEGIN:VCALENDAR
VERSION:2.0
PRODID:gruene-augsburg.de
METHOD:PUBLISH
BEGIN:VTIMEZONE
TZID:Europe/Berlin
X-LIC-LOCATION:Europe/Berlin
BEGIN:DAYLIGHT
TZOFFSETFROM:+0100
TZOFFSETTO:+0200
TZNAME:CEST
DTSTART:19700329T020000
RRULE:FREQ=YEARLY;INTERVAL=1;BYDAY=-1SU;BYMONTH=3
END:DAYLIGHT
BEGIN:STANDARD
TZOFFSETFROM:+0200
TZOFFSETTO:+0100
TZNAME:CET
DTSTART:19701025T030000
RRULE:FREQ=YEARLY;INTERVAL=1;BYDAY=-1SU;BYMONTH=10
END:STANDARD
END:VTIMEZONE
BEGIN:VEVENT
UID:17ccc09b5514b475e2ea328ba89540b6@gruene-augsburg.de
URL;VALUE=URI:https://gruene-augsburg.de/termine/podiumsdiskussion-alevit
 isches-kulturzentrum-und-cem-haus/
LOCATION:Alevitisches Kulturzentrum und Cem Haus Augsburg, Zirbelstraße 
 57, 86154 Augsburg
SUMMARY:Podiumsdiskussion (alevitisches Kulturzentrum und Cem Haus)
DESCRIPTION;ALTREP="data:text/html,%0A%3Cp%3EZur%20anstehenden%20Kommunal
 wahl%202026%20veranstalten%20auch%20das%20alevitische%20Kulturzentrum%20u
 nd%20das%20Cem%20Haus%20Augsburg%20e.V.%20eine%20Podiumsdiskussion.%20Mit
 %20dabei%20ist%20auch%20unsere%20OB-Kandidatin%20Martina%20Wild%20um%20un
 ser%20Wahlprogramm%20und%20unsere%20Ziele%20f%C3%BCr%20die%20n%C3%A4chste
 n%206%20Jahre%20den%20Mitgliedern%20vorzustellen.%3C%2Fp%3E%0A%0A%0A%0A%3
 Cp%3EAm%2022.02.%20k%C3%B6nnt%20ihr%20Eure%20Fragen%20loswerden%21%3C%2Fp
 %3E%0A":Zur anstehenden Kommunalwahl 2026 veranstalten auch das alevitisc
 he Kulturzentrum und das Cem Haus Augsburg e.V. eine Podiumsdiskussion. M
 it dabei ist auch unsere OB-Kandidatin Martina Wild um unser Wahlprogramm
  und unsere Ziele für die nächsten 6 Jahre den Mitgliedern vorzustellen
 .\n\nAm 22.02. könnt ihr Eure Fragen loswerden!
CLASS:PUBLIC
DTSTART;TZID=Europe/Berlin:20260222T110000
DTEND;TZID=Europe/Berlin:20260222T130000
DTSTAMP:20260423T194640
END:VEVENT
END:VCALENDAR