BEGIN:VCALENDAR
VERSION:2.0
PRODID:gruene-augsburg.de
METHOD:PUBLISH
BEGIN:VTIMEZONE
TZID:Europe/Berlin
X-LIC-LOCATION:Europe/Berlin
BEGIN:DAYLIGHT
TZOFFSETFROM:+0100
TZOFFSETTO:+0200
TZNAME:CEST
DTSTART:19700329T020000
RRULE:FREQ=YEARLY;INTERVAL=1;BYDAY=-1SU;BYMONTH=3
END:DAYLIGHT
BEGIN:STANDARD
TZOFFSETFROM:+0200
TZOFFSETTO:+0100
TZNAME:CET
DTSTART:19701025T030000
RRULE:FREQ=YEARLY;INTERVAL=1;BYDAY=-1SU;BYMONTH=10
END:STANDARD
END:VTIMEZONE
BEGIN:VEVENT
UID:b0077a38af80ca94c49f73ec41cf26fd@gruene-augsburg.de
URL;VALUE=URI:https://gruene-augsburg.de/termine/stammtisch-der-gruenen-o
 rtsgruppe-ost/
LOCATION:Restaurant Maharaja, Herrenbachstraße 13, Augsburg
SUMMARY:Stammtisch der grünen Ortsgruppe Ost
DESCRIPTION;ALTREP="data:text/html,%0A%3Cp%3EEine%20herzliche%20Einladung
 %20zum%20Stammtisch%20der%20gr%C3%BCnen%20Ortsgruppe%20Ost%20am%20%3Cstro
 ng%3EFreitag%2C%20dem%2010.04.2026%2C%20um%2019%20Uhr%20im%20Restaurant%2
 0Maharaja%2C%20Herrenbachstra%C3%9Fe%2013%2C%2086161%20Augsburg%3C%2Fstro
 ng%3E.%20%3C%2Fp%3E%0A%0A%0A%0A%3Cp%3EDie%20Ortsgruppe%20Ost%20umfasst%20
 die%20Stadtteile%20%3Cem%3ETextilviertel%2C%20Herrenbach%2C%20Spickel%20u
 nd%20Hochzoll.%3C%2Fem%3E%3C%2Fp%3E%0A%0A%0A%0A%3Cp%3EDie%20Ortsgruppen%2
 0unterst%C3%BCtzen%20die%20inhaltliche%20Arbeit%20der%20Augsburger%20Gr%C
 3%BCnen%20und%20greifen%20vor%20Ort%20stadtteilspezifische%20Themen%20auf
 .%20Seien%20es%20Infoabende%20zu%20politischen%20und%20gesellschaftlichen
 %20Themen%20wie%20Alltagsrassismus%2C%20Abfallvermeidung%20oder%20Worksho
 ps%20zum%20Thema%20gr%C3%BCner%20leben%2C%20oder%20aber%20durch%20Aktione
 n%20wie%20%C3%B6ffentliche%20Gemeinschaftsbeete%2C%20wollen%20wir%20verbi
 nden%2C%20aktivieren%20und%20mobilisieren.%20Komm%20zu%20unseren%20Treffe
 n%20vorbei%20und%20bring%20Dich%20ein.%20Nat%C3%BCrlich%20freuen%20wir%20
 uns%20auch%20%C3%BCber%20Deine%20Vorschl%C3%A4ge%20und%20Unterst%C3%BCtzu
 ng%20bei%20der%20Umsetzung.%20Gerne%20kannst%20Du%20auch%20interessierte%
 20Freund%2Ainnen%20und%20Bekannte%20mitbringen.%20Auch%20ohne%20Mitglieds
 chaft%20sind%20diese%20herzlich%20willkommen.%3C%2Fp%3E%0A":Eine herzlich
 e Einladung zum Stammtisch der grünen Ortsgruppe Ost am Freitag\, dem 10
 .04.2026\, um 19 Uhr im Restaurant Maharaja\, Herrenbachstraße 13\, 8616
 1 Augsburg.\n\nDie Ortsgruppe Ost umfasst die Stadtteile Textilviertel\, 
 Herrenbach\, Spickel und Hochzoll.\n\nDie Ortsgruppen unterstützen die i
 nhaltliche Arbeit der Augsburger Grünen und greifen vor Ort stadtteilspe
 zifische Themen auf. Seien es Infoabende zu politischen und gesellschaftl
 ichen Themen wie Alltagsrassismus\, Abfallvermeidung oder Workshops zum T
 hema grüner leben\, oder aber durch Aktionen wie öffentliche Gemeinscha
 ftsbeete\, wollen wir verbinden\, aktivieren und mobilisieren. Komm zu un
 seren Treffen vorbei und bring Dich ein. Natürlich freuen wir uns auch 
 über Deine Vorschläge und Unterstützung bei der Umsetzung. Gerne kanns
 t Du auch interessierte Freund*innen und Bekannte mitbringen. Auch ohne M
 itgliedschaft sind diese herzlich willkommen.
CLASS:PUBLIC
DTSTART;TZID=Europe/Berlin:20260410T190000
DTEND;TZID=Europe/Berlin:20260410T210000
DTSTAMP:20260423T194431
END:VEVENT
END:VCALENDAR