BEGIN:VCALENDAR
VERSION:2.0
PRODID:gruene-augsburg.de
METHOD:PUBLISH
BEGIN:VTIMEZONE
TZID:Europe/Berlin
X-LIC-LOCATION:Europe/Berlin
BEGIN:DAYLIGHT
TZOFFSETFROM:+0100
TZOFFSETTO:+0200
TZNAME:CEST
DTSTART:19700329T020000
RRULE:FREQ=YEARLY;INTERVAL=1;BYDAY=-1SU;BYMONTH=3
END:DAYLIGHT
BEGIN:STANDARD
TZOFFSETFROM:+0200
TZOFFSETTO:+0100
TZNAME:CET
DTSTART:19701025T030000
RRULE:FREQ=YEARLY;INTERVAL=1;BYDAY=-1SU;BYMONTH=10
END:STANDARD
END:VTIMEZONE
BEGIN:VEVENT
UID:092e56dd203246a5da1963c2e4936531@gruene-augsburg.de
URL;VALUE=URI:https://gruene-augsburg.de/termine/stammtisch-der-og-ost/
LOCATION:Restaurant Maharadja, Herrenbachstraße 13, 86161 Augsburg
SUMMARY:Stammtisch der OG Ost
DESCRIPTION;ALTREP="data:text/html,%0A%3Cp%3EHerzliche%20Einladung%20zum%
 20Stammtisch%20der%20OG%20Ost%20am%20Freitag%20den%2013.02.%20um%2019%3A0
 0%20Uhr.%3C%2Fp%3E%0A%0A%0A%0A%3Cp%3EWir%20von%20der%20OG%20Ost%20wollen%
 20uns%20bei%20einem%20gem%C3%BCtlichen%20Treffen%20im%20Restaurant%20Maha
 radja%20austauschen%2C%20gemeinsam%20lachen%2C%20essen%20und%20die%20Zeit
 %20vergessen.%20%3C%2Fp%3E%0A%0A%0A%0A%3Cp%3EWir%20freuen%20uns%20%C3%BCb
 er%20jede%2Fn%20der%20Lust%20hat%20vorbeizukommen%21%3C%2Fp%3E%0A":Herzli
 che Einladung zum Stammtisch der OG Ost am Freitag den 13.02. um 19:00 Uh
 r.\n\nWir von der OG Ost wollen uns bei einem gemütlichen Treffen im Res
 taurant Maharadja austauschen\, gemeinsam lachen\, essen und die Zeit ver
 gessen.\n\nWir freuen uns über jede/n der Lust hat vorbeizukommen!
CLASS:PUBLIC
DTSTART;TZID=Europe/Berlin:20260213T190000
DTEND;TZID=Europe/Berlin:20260213T210000
DTSTAMP:20260423T194300
END:VEVENT
END:VCALENDAR