BEGIN:VCALENDAR
VERSION:2.0
PRODID:gruene-augsburg.de
METHOD:PUBLISH
BEGIN:VTIMEZONE
TZID:Europe/Berlin
X-LIC-LOCATION:Europe/Berlin
BEGIN:DAYLIGHT
TZOFFSETFROM:+0100
TZOFFSETTO:+0200
TZNAME:CEST
DTSTART:19700329T020000
RRULE:FREQ=YEARLY;INTERVAL=1;BYDAY=-1SU;BYMONTH=3
END:DAYLIGHT
BEGIN:STANDARD
TZOFFSETFROM:+0200
TZOFFSETTO:+0100
TZNAME:CET
DTSTART:19701025T030000
RRULE:FREQ=YEARLY;INTERVAL=1;BYDAY=-1SU;BYMONTH=10
END:STANDARD
END:VTIMEZONE
BEGIN:VEVENT
UID:f449ced3b643f769fe5d2eb4d2680e85@gruene-augsburg.de
URL;VALUE=URI:https://gruene-augsburg.de/termine/treffen-der-gruenen-orts
 gruppe-innenstadt-12/
LOCATION:Grünes Büro, Katharinengasse 34, Augsburg
SUMMARY:Treffen der grünen Ortsgruppe Innenstadt
DESCRIPTION;ALTREP="data:text/html,%0A%3Cp%3EEine%20herzliche%20Einladung
 %20zum%20Treffen%20der%20gr%C3%BCnen%20Ortsgruppe%20Innenstadt%20am%2026.
 01.2026%20um%2019%20Uhr%20im%20Seminarraum%20Eck%20in%20der%20Kresslesm%C
 3%BChle.%3C%2Fp%3E%0A%0A%0A%0A%3Cp%3EDie%20Ortsgruppen%20unterst%C3%BCtze
 n%20die%20inhaltliche%20Arbeit%20der%20Augsburger%20Gr%C3%BCnen%20und%20g
 reifen%20vor%20Ort%20stadtteilspezifische%20Themen%20auf.%20Seien%20es%20
 Infoabende%20zu%20politischen%20und%20gesellschaftlichen%20Themen%20wie%2
 0Alltagsrassismus%2C%20Abfallvermeidung%20oder%20Workshops%20zum%20Thema%
 20gr%C3%BCner%20leben%2C%20oder%20aber%20durch%20Aktionen%20wie%20%C3%B6f
 fentliche%20Gemeinschaftsbeete%2C%20wollen%20wir%20verbinden%2C%20aktivie
 ren%20und%20mobilisieren.%3C%2Fp%3E%0A%0A%0A%0A%3Cp%3EKomm%20zu%20unseren
 %20Treffen%20vorbei%20und%20bring%20Dich%20ein.%20Nat%C3%BCrlich%20freuen
 %20wir%20uns%20auch%20%C3%BCber%20Deine%20Vorschl%C3%A4ge%20und%20Unterst
 %C3%BCtzung%20bei%20der%20Umsetzung.%20Gerne%20kannst%20Du%20auch%20inter
 essierte%20Freund%2Ainnen%20und%20Bekannte%20mitbringen.%20Auch%20ohne%20
 Mitgliedschaft%20sind%20diese%20herzlich%20willkommen.%3C%2Fp%3E%0A%0A%0A
 %0A%3Cp%3E%3Cem%3EDie%20Ortsgruppe%20Innenstadt%20umfasst%20die%20Stadtte
 ile%20Georgs-%20und%20Kreuzviertel%2C%20Bleich%20und%20Pf%C3%A4rrle%2C%20
 Jakobervorstadt%2C%20Lechviertel%2C%20Domviertel%2C%20Ulrichsviertel%2C%2
 0Bahnhofs-%20und%20Bismarckviertel%20sowie%20das%20Stadtj%C3%A4gerviertel
 .%3C%2Fem%3E%3C%2Fp%3E%0A":Eine herzliche Einladung zum Treffen der grün
 en Ortsgruppe Innenstadt am 26.01.2026 um 19 Uhr im Seminarraum Eck in de
 r Kresslesmühle.\n\nDie Ortsgruppen unterstützen die inhaltliche Arbeit
  der Augsburger Grünen und greifen vor Ort stadtteilspezifische Themen a
 uf. Seien es Infoabende zu politischen und gesellschaftlichen Themen wie 
 Alltagsrassismus\, Abfallvermeidung oder Workshops zum Thema grüner lebe
 n\, oder aber durch Aktionen wie öffentliche Gemeinschaftsbeete\, wollen
  wir verbinden\, aktivieren und mobilisieren.\n\nKomm zu unseren Treffen 
 vorbei und bring Dich ein. Natürlich freuen wir uns auch über Deine Vor
 schläge und Unterstützung bei der Umsetzung. Gerne kannst Du auch inter
 essierte Freund*innen und Bekannte mitbringen. Auch ohne Mitgliedschaft s
 ind diese herzlich willkommen.\n\nDie Ortsgruppe Innenstadt umfasst die S
 tadtteile Georgs- und Kreuzviertel\, Bleich und Pfärrle\, Jakobervorstad
 t\, Lechviertel\, Domviertel\, Ulrichsviertel\, Bahnhofs- und Bismarckvie
 rtel sowie das Stadtjägerviertel.
CLASS:PUBLIC
DTSTART;TZID=Europe/Berlin:20260223T190000
DTEND;TZID=Europe/Berlin:20260223T210000
DTSTAMP:20260423T194558
END:VEVENT
END:VCALENDAR