BEGIN:VCALENDAR
VERSION:2.0
PRODID:gruene-augsburg.de
METHOD:PUBLISH
BEGIN:VTIMEZONE
TZID:Europe/Berlin
X-LIC-LOCATION:Europe/Berlin
BEGIN:DAYLIGHT
TZOFFSETFROM:+0100
TZOFFSETTO:+0200
TZNAME:CEST
DTSTART:19700329T020000
RRULE:FREQ=YEARLY;INTERVAL=1;BYDAY=-1SU;BYMONTH=3
END:DAYLIGHT
BEGIN:STANDARD
TZOFFSETFROM:+0200
TZOFFSETTO:+0100
TZNAME:CET
DTSTART:19701025T030000
RRULE:FREQ=YEARLY;INTERVAL=1;BYDAY=-1SU;BYMONTH=10
END:STANDARD
END:VTIMEZONE
BEGIN:VEVENT
UID:cf16e34de16b666440cdec9454139d3a@gruene-augsburg.de
URL;VALUE=URI:https://gruene-augsburg.de/termine/treffen-der-gruenen-orts
 gruppe-innenstadt-3/
LOCATION:Kresslesmühle, Barfüßerstraße 4, Augsburg
SUMMARY:Treffen der grünen Ortsgruppe Innenstadt
DESCRIPTION;ALTREP="data:text/html,%0A%3Cp%3EEine%20herzliche%20Einladung
 %20zum%20Treffen%20der%20gr%C3%BCnen%20Ortsgruppe%20Innenstadt%20am%2027.
 04.26%20um%2019%20Uhr%20in%20der%20Kresslesm%C3%BChle%20%28Seminarraum%20
 Treff%29.%3C%2Fp%3E%0A%0A%0A%0A%3Cp%3EDie%20Ortsgruppen%20unterst%C3%BCtz
 en%20die%20inhaltliche%20Arbeit%20der%20Augsburger%20Gr%C3%BCnen%20und%20
 greifen%20vor%20Ort%20stadtteilspezifische%20Themen%20auf.%20Seien%20es%2
 0Infoabende%20zu%20politischen%20und%20gesellschaftlichen%20Themen%20wie%
 20Alltagsrassismus%2C%20Abfallvermeidung%20oder%20Workshops%20zum%20Thema
 %20gr%C3%BCner%20leben%2C%20oder%20aber%20durch%20Aktionen%20wie%20%C3%B6
 ffentliche%20Gemeinschaftsbeete%2C%20wollen%20wir%20verbinden%2C%20aktivi
 eren%20und%20mobilisieren.%3C%2Fp%3E%0A%0A%0A%0A%3Cp%3EKomm%20zu%20unsere
 n%20Treffen%20vorbei%20und%20bring%20Dich%20ein.%20Nat%C3%BCrlich%20freue
 n%20wir%20uns%20auch%20%C3%BCber%20Deine%20Vorschl%C3%A4ge%20und%20Unters
 t%C3%BCtzung%20bei%20der%20Umsetzung.%20Gerne%20kannst%20Du%20auch%20inte
 ressierte%20Freund%2Ainnen%20und%20Bekannte%20mitbringen.%20Auch%20ohne%2
 0Mitgliedschaft%20sind%20diese%20herzlich%20willkommen.%3C%2Fp%3E%0A%0A%0
 A%0A%3Cp%3E%3Cem%3EDie%20Ortsgruppe%20Innenstadt%20umfasst%20die%20Stadtt
 eile%26nbsp%3BGeorgs-%20und%20Kreuzviertel%2C%20Bleich%20und%20Pf%C3%A4rr
 le%2C%20Jakobervorstadt%2C%20Lechviertel%2C%20Domviertel%2C%20Ulrichsvier
 tel%2C%20Bahnhofs-%20und%20Bismarckviertel%20sowie%20das%20Stadtj%C3%A4ge
 rviertel.%3C%2Fem%3E%3C%2Fp%3E%0A":Eine herzliche Einladung zum Treffen d
 er grünen Ortsgruppe Innenstadt am 27.04.26 um 19 Uhr in der Kresslesmü
 hle (Seminarraum Treff).\n\nDie Ortsgruppen unterstützen die inhaltliche
  Arbeit der Augsburger Grünen und greifen vor Ort stadtteilspezifische T
 hemen auf. Seien es Infoabende zu politischen und gesellschaftlichen Them
 en wie Alltagsrassismus\, Abfallvermeidung oder Workshops zum Thema grün
 er leben\, oder aber durch Aktionen wie öffentliche Gemeinschaftsbeete\,
  wollen wir verbinden\, aktivieren und mobilisieren.\n\nKomm zu unseren T
 reffen vorbei und bring Dich ein. Natürlich freuen wir uns auch über De
 ine Vorschläge und Unterstützung bei der Umsetzung. Gerne kannst Du auc
 h interessierte Freund*innen und Bekannte mitbringen. Auch ohne Mitglieds
 chaft sind diese herzlich willkommen.\n\nDie Ortsgruppe Innenstadt umfass
 t die Stadtteile Georgs- und Kreuzviertel\, Bleich und Pfärrle\, Jakobe
 rvorstadt\, Lechviertel\, Domviertel\, Ulrichsviertel\, Bahnhofs- und Bis
 marckviertel sowie das Stadtjägerviertel.
CLASS:PUBLIC
DTSTART;TZID=Europe/Berlin:20260427T190000
DTEND;TZID=Europe/Berlin:20260427T210000
DTSTAMP:20260423T142206
END:VEVENT
END:VCALENDAR