BEGIN:VCALENDAR
VERSION:2.0
PRODID:gruene-augsburg.de
METHOD:PUBLISH
BEGIN:VTIMEZONE
TZID:Europe/Berlin
X-LIC-LOCATION:Europe/Berlin
BEGIN:DAYLIGHT
TZOFFSETFROM:+0100
TZOFFSETTO:+0200
TZNAME:CEST
DTSTART:19700329T020000
RRULE:FREQ=YEARLY;INTERVAL=1;BYDAY=-1SU;BYMONTH=3
END:DAYLIGHT
BEGIN:STANDARD
TZOFFSETFROM:+0200
TZOFFSETTO:+0100
TZNAME:CET
DTSTART:19701025T030000
RRULE:FREQ=YEARLY;INTERVAL=1;BYDAY=-1SU;BYMONTH=10
END:STANDARD
END:VTIMEZONE
BEGIN:VEVENT
UID:a48e42cea50074e837eb67ca55d68485@gruene-augsburg.de
URL;VALUE=URI:https://gruene-augsburg.de/termine/treffen-der-gruenen-orts
 gruppe-sued/
LOCATION:Unikum, Salomon-Idler-Straße 24F, Augsburg
SUMMARY:Treffen der grünen Ortsgruppe Süd
DESCRIPTION;ALTREP="data:text/html,%0A%3Cp%3EEine%20herzliche%20Einladung
 %20zum%20Treffen%20der%20gr%C3%BCnen%20Ortsgruppe%20S%C3%BCd.%3C%2Fp%3E%0
 A%0A%0A%0A%3Cp%3EDie%20Ortsgruppen%20unterst%C3%BCtzen%20die%20inhaltlich
 e%20Arbeit%20der%20Augsburger%20Gr%C3%BCnen%20und%20greifen%20vor%20Ort%2
 0stadtteilspezifische%20Themen%20auf.%20Seien%20es%20Infoabende%20zu%20po
 litischen%20und%20gesellschaftlichen%20Themen%20wie%20Alltagsrassismus%2C
 %20Abfallvermeidung%20oder%20Workshops%20zum%20Thema%20gr%C3%BCner%20lebe
 n%2C%20oder%20aber%20durch%20Aktionen%20wie%20%C3%B6ffentliche%20Gemeinsc
 haftsbeete%2C%20wollen%20wir%20verbinden%2C%20aktivieren%20und%20mobilisi
 eren.%3C%2Fp%3E%0A%0A%0A%0A%3Cp%3EKomm%20zu%20unseren%20Treffen%20am%20%3
 Cstrong%3E7.%20Mai%20im%20Unikum%20%3C%2Fstrong%3E%28Univiertel%29%20%3Cs
 trong%3Eum%2019%20Uhr%3C%2Fstrong%3E%20vorbei%20und%20bring%20Dich%20ein.
 %20Nat%C3%BCrlich%20freuen%20wir%20uns%20auch%20%C3%BCber%20Deine%20Vorsc
 hl%C3%A4ge%20und%20Unterst%C3%BCtzung%20bei%20der%20Umsetzung.%20Gerne%20
 kannst%20Du%20auch%20interessierte%20Freund%2Ainnen%20und%20Bekannte%20mi
 tbringen.%20Auch%20ohne%20Mitgliedschaft%20sind%20diese%20herzlich%20will
 kommen.%3C%2Fp%3E%0A%0A%0A%0A%3Cp%3E%3Cem%3EDie%20Ortsgruppe%20S%C3%BCd%2
 0umfasst%20die%20Stadtteile%26nbsp%3BHaunstetten%2C%20Univiertel%20und%20
 Siebenbrunn.%3C%2Fem%3E%3C%2Fp%3E%0A%0A%0A%0A%3Cp%3E%3C%2Fp%3E%0A":Eine h
 erzliche Einladung zum Treffen der grünen Ortsgruppe Süd.\n\nDie Ortsgr
 uppen unterstützen die inhaltliche Arbeit der Augsburger Grünen und gre
 ifen vor Ort stadtteilspezifische Themen auf. Seien es Infoabende zu poli
 tischen und gesellschaftlichen Themen wie Alltagsrassismus\, Abfallvermei
 dung oder Workshops zum Thema grüner leben\, oder aber durch Aktionen wi
 e öffentliche Gemeinschaftsbeete\, wollen wir verbinden\, aktivieren und
  mobilisieren.\n\nKomm zu unseren Treffen am 7. Mai im Unikum (Univiertel
 ) um 19 Uhr vorbei und bring Dich ein. Natürlich freuen wir uns auch üb
 er Deine Vorschläge und Unterstützung bei der Umsetzung. Gerne kannst D
 u auch interessierte Freund*innen und Bekannte mitbringen. Auch ohne Mitg
 liedschaft sind diese herzlich willkommen.\n\nDie Ortsgruppe Süd umfasst
  die Stadtteile Haunstetten\, Univiertel und Siebenbrunn.
CLASS:PUBLIC
DTSTART;TZID=Europe/Berlin:20260507T190000
DTEND;TZID=Europe/Berlin:20260507T210000
DTSTAMP:20260423T174953
END:VEVENT
END:VCALENDAR