BEGIN:VCALENDAR
VERSION:2.0
PRODID:gruene-augsburg.de
METHOD:PUBLISH
BEGIN:VTIMEZONE
TZID:Europe/Berlin
X-LIC-LOCATION:Europe/Berlin
BEGIN:DAYLIGHT
TZOFFSETFROM:+0100
TZOFFSETTO:+0200
TZNAME:CEST
DTSTART:19700329T020000
RRULE:FREQ=YEARLY;INTERVAL=1;BYDAY=-1SU;BYMONTH=3
END:DAYLIGHT
BEGIN:STANDARD
TZOFFSETFROM:+0200
TZOFFSETTO:+0100
TZNAME:CET
DTSTART:19701025T030000
RRULE:FREQ=YEARLY;INTERVAL=1;BYDAY=-1SU;BYMONTH=10
END:STANDARD
END:VTIMEZONE
BEGIN:VEVENT
UID:60c2ba3a00685d328e801e5ed3f143ec@gruene-augsburg.de
URL;VALUE=URI:https://gruene-augsburg.de/termine/treffen-der-gruenen-orts
 gruppe-suedwest/
LOCATION:Ort folgt
SUMMARY:Treffen der grünen Ortsgruppe Südwest
DESCRIPTION;ALTREP="data:text/html,%0A%3Cp%3EEine%20herzliche%20Einladung
 %20zum%20Treffen%20der%20gr%C3%BCnen%20Ortsgruppe%20S%C3%BCdwest%20am%20F
 reitag%2C%2022.05.%20um%2019%3A00%20Uhr.%20Ort%20folgt.%3C%2Fp%3E%0A%0A%0
 A%0A%3Cp%3EAuf%20der%20Tagesordnung%20steht%20die%20Wahl%20neuer%20Sprech
 er%2Ainnen.%3C%2Fp%3E%0A%0A%0A%0A%3Cp%3EDie%20Ortsgruppen%20unterst%C3%BC
 tzen%20die%20inhaltliche%20Arbeit%20der%20Augsburger%20Gr%C3%BCnen%20und%
 20greifen%20vor%20Ort%20stadtteilspezifische%20Themen%20auf.%20Seien%20es
 %20Infoabende%20zu%20politischen%20und%20gesellschaftlichen%20Themen%20wi
 e%20Alltagsrassismus%2C%20Abfallvermeidung%20oder%20Workshops%20zum%20The
 ma%20gr%C3%BCner%20leben%2C%20oder%20aber%20durch%20Aktionen%20wie%20%C3%
 B6ffentliche%20Gemeinschaftsbeete%2C%20wollen%20wir%20verbinden%2C%20akti
 vieren%20und%20mobilisieren.%20Komm%20zu%20unseren%20Treffen%20vorbei%20u
 nd%20bring%20Dich%20ein.%20Nat%C3%BCrlich%20freuen%20wir%20uns%20auch%20%
 C3%BCber%20Deine%20Vorschl%C3%A4ge%20und%20Unterst%C3%BCtzung%20bei%20der
 %20Umsetzung.%20Gerne%20kannst%20Du%20auch%20interessierte%20Freund%2Ainn
 en%20und%20Bekannte%20mitbringen.%20Auch%20ohne%20Mitgliedschaft%20sind%2
 0diese%20herzlich%20willkommen.%20%3C%2Fp%3E%0A%0A%0A%0A%3Cp%3E%3Cem%3EDi
 e%20Ortsgruppe%20S%C3%BCdwest%20umfasst%20die%20Stadtteile%20G%C3%B6gging
 en%2C%20Inningen%20und%20Bergheim.%3C%2Fem%3E%3C%2Fp%3E%0A":Eine herzlich
 e Einladung zum Treffen der grünen Ortsgruppe Südwest am Freitag\, 22.0
 5. um 19:00 Uhr. Ort folgt.\n\nAuf der Tagesordnung steht die Wahl neuer 
 Sprecher*innen.\n\nDie Ortsgruppen unterstützen die inhaltliche Arbeit d
 er Augsburger Grünen und greifen vor Ort stadtteilspezifische Themen auf
 . Seien es Infoabende zu politischen und gesellschaftlichen Themen wie Al
 ltagsrassismus\, Abfallvermeidung oder Workshops zum Thema grüner leben\
 , oder aber durch Aktionen wie öffentliche Gemeinschaftsbeete\, wollen w
 ir verbinden\, aktivieren und mobilisieren. Komm zu unseren Treffen vorbe
 i und bring Dich ein. Natürlich freuen wir uns auch über Deine Vorschl
 äge und Unterstützung bei der Umsetzung. Gerne kannst Du auch interessi
 erte Freund*innen und Bekannte mitbringen. Auch ohne Mitgliedschaft sind 
 diese herzlich willkommen.\n\nDie Ortsgruppe Südwest umfasst die Stadtte
 ile Göggingen\, Inningen und Bergheim.
CLASS:PUBLIC
DTSTART;TZID=Europe/Berlin:20260522T190000
DTEND;TZID=Europe/Berlin:20260522T210000
DTSTAMP:20260423T180201
END:VEVENT
END:VCALENDAR