BEGIN:VCALENDAR
VERSION:2.0
PRODID:gruene-augsburg.de
METHOD:PUBLISH
BEGIN:VTIMEZONE
TZID:Europe/Berlin
X-LIC-LOCATION:Europe/Berlin
BEGIN:DAYLIGHT
TZOFFSETFROM:+0100
TZOFFSETTO:+0200
TZNAME:CEST
DTSTART:19700329T020000
RRULE:FREQ=YEARLY;INTERVAL=1;BYDAY=-1SU;BYMONTH=3
END:DAYLIGHT
BEGIN:STANDARD
TZOFFSETFROM:+0200
TZOFFSETTO:+0100
TZNAME:CET
DTSTART:19701025T030000
RRULE:FREQ=YEARLY;INTERVAL=1;BYDAY=-1SU;BYMONTH=10
END:STANDARD
END:VTIMEZONE
BEGIN:VEVENT
UID:1a1fedf4511c7682d9d676038fd313d3@gruene-augsburg.de
URL;VALUE=URI:https://gruene-augsburg.de/termine/treffen-der-ortsgruppe-o
 st/
LOCATION:Färberturm, Am Färberturm 1, 86153 Augsburg
SUMMARY:Treffen der Ortsgruppe Ost
DESCRIPTION;ALTREP="data:text/html,%0A%3Cp%3EEine%20herzliche%20Einladung
 %20zum%20Treffen%20der%20gr%C3%BCnen%20Ortsgruppe%20Ost%20am%2013.03.2026
 %20um%2019%20Uhr%20am%20F%C3%A4rberturm.%3C%2Fp%3E%0A%0A%0A%0A%3Cp%3EDie%
 20Ortsgruppen%20unterst%C3%BCtzen%20die%20inhaltliche%20Arbeit%20der%20Au
 gsburger%20Gr%C3%BCnen%20und%20greifen%20vor%20Ort%20stadtteilspezifische
 %20Themen%20auf.%20Seien%20es%20Infoabende%20zu%20politischen%20und%20ges
 ellschaftlichen%20Themen%20wie%20Alltagsrassismus%2C%20Abfallvermeidung%2
 0oder%20Workshops%20zum%20Thema%20gr%C3%BCner%20leben%2C%20oder%20aber%20
 durch%20Aktionen%20wie%20%C3%B6ffentliche%20Gemeinschaftsbeete%2C%20wolle
 n%20wir%20verbinden%2C%20aktivieren%20und%20mobilisieren.%3C%2Fp%3E%0A%0A
 %0A%0A%3Cp%3EKomm%20zu%20unseren%20Treffen%20vorbei%20und%20bring%20Dich%
 20ein.%20Nat%C3%BCrlich%20freuen%20wir%20uns%20auch%20%C3%BCber%20Deine%2
 0Vorschl%C3%A4ge%20und%20Unterst%C3%BCtzung%20bei%20der%20Umsetzung.%20Ge
 rne%20kannst%20Du%20auch%20interessierte%20Freund%2Ainnen%20und%20Bekannt
 e%20mitbringen.%20Auch%20ohne%20Mitgliedschaft%20sind%20diese%20herzlich%
 20willkommen.%3C%2Fp%3E%0A%0A%0A%0A%3Cp%3E%3Cem%3EDie%20Ortsgruppe%20Ost%
 20umfasst%20die%20Stadtteile%26nbsp%3BTextilviertel%2C%20Herrenbach%2C%20
 Spickel%20und%20Hochzoll.%3C%2Fem%3E%3C%2Fp%3E%0A":Eine herzliche Einladu
 ng zum Treffen der grünen Ortsgruppe Ost am 13.03.2026 um 19 Uhr am Fär
 berturm.\n\nDie Ortsgruppen unterstützen die inhaltliche Arbeit der Augs
 burger Grünen und greifen vor Ort stadtteilspezifische Themen auf. Seien
  es Infoabende zu politischen und gesellschaftlichen Themen wie Alltagsra
 ssismus\, Abfallvermeidung oder Workshops zum Thema grüner leben\, oder 
 aber durch Aktionen wie öffentliche Gemeinschaftsbeete\, wollen wir verb
 inden\, aktivieren und mobilisieren.\n\nKomm zu unseren Treffen vorbei un
 d bring Dich ein. Natürlich freuen wir uns auch über Deine Vorschläge 
 und Unterstützung bei der Umsetzung. Gerne kannst Du auch interessierte 
 Freund*innen und Bekannte mitbringen. Auch ohne Mitgliedschaft sind diese
  herzlich willkommen.\n\nDie Ortsgruppe Ost umfasst die Stadtteile Texti
 lviertel\, Herrenbach\, Spickel und Hochzoll.
CLASS:PUBLIC
DTSTART;TZID=Europe/Berlin:20260313T190000
DTEND;TZID=Europe/Berlin:20260313T210000
DTSTAMP:20260421T103054
END:VEVENT
END:VCALENDAR