BEGIN:VCALENDAR
VERSION:2.0
PRODID:gruene-augsburg.de
METHOD:PUBLISH
BEGIN:VTIMEZONE
TZID:Europe/Berlin
X-LIC-LOCATION:Europe/Berlin
BEGIN:DAYLIGHT
TZOFFSETFROM:+0100
TZOFFSETTO:+0200
TZNAME:CEST
DTSTART:19700329T020000
RRULE:FREQ=YEARLY;INTERVAL=1;BYDAY=-1SU;BYMONTH=3
END:DAYLIGHT
BEGIN:STANDARD
TZOFFSETFROM:+0200
TZOFFSETTO:+0100
TZNAME:CET
DTSTART:19701025T030000
RRULE:FREQ=YEARLY;INTERVAL=1;BYDAY=-1SU;BYMONTH=10
END:STANDARD
END:VTIMEZONE
BEGIN:VEVENT
UID:72a5eca489974a4e9656b6b2981ac37a@gruene-augsburg.de
URL;VALUE=URI:https://gruene-augsburg.de/termine/treffen-des-gruenen-arbe
 itskreises-mobilitaet/
LOCATION:Grünes Büro, Katharinengasse 34, Augsburg
SUMMARY:Treffen des grünen Arbeitskreises Mobilität
DESCRIPTION;ALTREP="data:text/html,%0A%3Cp%3EDie%20Mobilit%C3%A4t%20steht
 %20im%20Mittelpunkt%20unserer%20gr%C3%BCnen%20Politik%20f%C3%BCr%20eine%2
 0zukunftsf%C3%A4hige%20Stadt.%20Entsprechend%20gibt%20es%20im%20Arbeitskr
 eis%20Mobilit%C3%A4t%20immer%20etwas%20zu%20tun.%20Im%20Arbeitskreis%20ge
 ht%20es%20um%20alle%20Themen%2C%20die%20die%20Mobilit%C3%A4t%20von%20morg
 en%20mit%20sich%20bringt.%20Egal%20ob%20Radverkehr%2C%20%C3%96ffentlicher
 %20Personennahverkehr%2C%20Fu%C3%9Fverkehr%2C%20Carsharing%20oder%20der%2
 0richtige%20Umgang%20mit%20dem%20nach%20wie%20vor%20bestimmenden%20motori
 sierten%20Individualverkehr%20%E2%80%93%20im%20Arbeitskreis%20Mobilit%C3%
 A4t%20behandeln%20wir%20alles%2C%20was%20mit%20Fortbewegung%20zu%20tun%20
 hat.%20Lust%20bekommen%20mitzumachen%3F%20Komm%20gerne%20vorbei%21%3C%2Fp
 %3E%0A%0A%0A%0A%3Cp%3EUnser%20n%C3%A4chstes%20Treffen%20findet%20am%20%3C
 strong%3EFreitag%2C%20dem%2020.03.%2C%20um%2019%3A30%20im%20Gr%C3%BCnen%2
 0B%C3%BCro%20%3C%2Fstrong%3Estatt.%20Auf%20der%20Tagesordnung%20steht%20d
 ie%3Cstrong%3E%20Wahl%20neuer%20Sprecher%2Ainnen.%3C%2Fstrong%3E%20Die%20
 Sitzung%20ist%20offen%20auch%20f%C3%BCr%20Nicht-Mitglieder.%3C%2Fp%3E%0A"
 :Die Mobilität steht im Mittelpunkt unserer grünen Politik für eine zu
 kunftsfähige Stadt. Entsprechend gibt es im Arbeitskreis Mobilität imme
 r etwas zu tun. Im Arbeitskreis geht es um alle Themen\, die die Mobilit
 ät von morgen mit sich bringt. Egal ob Radverkehr\, Öffentlicher Person
 ennahverkehr\, Fußverkehr\, Carsharing oder der richtige Umgang mit dem 
 nach wie vor bestimmenden motorisierten Individualverkehr – im Arbeitsk
 reis Mobilität behandeln wir alles\, was mit Fortbewegung zu tun hat. Lu
 st bekommen mitzumachen? Komm gerne vorbei!\n\nUnser nächstes Treffen fi
 ndet am Freitag\, dem 20.03.\, um 19:30 im Grünen Büro statt. Auf der T
 agesordnung steht die Wahl neuer Sprecher*innen. Die Sitzung ist offen au
 ch für Nicht-Mitglieder.
CLASS:PUBLIC
DTSTART;TZID=Europe/Berlin:20260320T193000
DTEND;TZID=Europe/Berlin:20260320T213000
DTSTAMP:20260423T194317
END:VEVENT
END:VCALENDAR