BEGIN:VCALENDAR
VERSION:2.0
PRODID:gruene-augsburg.de
METHOD:PUBLISH
BEGIN:VTIMEZONE
TZID:Europe/Berlin
X-LIC-LOCATION:Europe/Berlin
BEGIN:DAYLIGHT
TZOFFSETFROM:+0100
TZOFFSETTO:+0200
TZNAME:CEST
DTSTART:19700329T020000
RRULE:FREQ=YEARLY;INTERVAL=1;BYDAY=-1SU;BYMONTH=3
END:DAYLIGHT
BEGIN:STANDARD
TZOFFSETFROM:+0200
TZOFFSETTO:+0100
TZNAME:CET
DTSTART:19701025T030000
RRULE:FREQ=YEARLY;INTERVAL=1;BYDAY=-1SU;BYMONTH=10
END:STANDARD
END:VTIMEZONE
BEGIN:VEVENT
UID:5a1a78d745eeedc7902dc18057d24087@gruene-augsburg.de
URL;VALUE=URI:https://gruene-augsburg.de/termine/treffen-des-gruenen-arbe
 itskreises-sport/
LOCATION:Grünes Büro, Katharinengasse 34, Augsburg
SUMMARY:Treffen des grünen Arbeitskreises Sport
DESCRIPTION;ALTREP="data:text/html,%0A%3Cp%3EDer%20gr%C3%BCne%20Arbeitskr
 eis%20Sport%20will%20eine%20gr%C3%BCne%20Handschrift%20im%20Bereich%20der
 %20Sportpolitik%20in%20Augsburg%20erarbeiten.%20Daher%20setzt%20er%20sich
 %20f%C3%BCr%20den%20Umwelt-%20und%20Klimaschutz%20im%20Sport%20ein.%20Der
 %20AK%20erachtet%20den%20Sport%20als%20geniale%20M%C3%B6glichkeit%2C%20um
 %20Vielfalt%20unmittelbar%20zu%20erleben%20und%20Menschen%20aus%20untersc
 hiedlichsten%20gesellschaftlichen%20Milieus%20und%20mit%20diversen%20Hint
 ergr%C3%BCnden%20zusammen%20zu%20bringen.%20%3C%2Fp%3E%0A%0A%0A%0A%3Cp%3E
 Lust%20bekommen%20mitzumachen%3F%20Komm%20gerne%20vorbei%21%20Unser%20n%C
 3%A4chstes%20Treffen%20findet%20am%20Mittwoch%2C%2027.05.%2C%20um%2019%20
 Uhr%20im%20Gr%C3%BCnen%20B%C3%BCro%20statt.%20%3C%2Fp%3E%0A%0A%0A%0A%3Cp%
 3EDie%20Sitzung%20ist%20offen%20auch%20f%C3%BCr%20Nicht-Mitglieder.%3C%2F
 p%3E%0A":Der grüne Arbeitskreis Sport will eine grüne Handschrift im Be
 reich der Sportpolitik in Augsburg erarbeiten. Daher setzt er sich für d
 en Umwelt- und Klimaschutz im Sport ein. Der AK erachtet den Sport als ge
 niale Möglichkeit\, um Vielfalt unmittelbar zu erleben und Menschen aus 
 unterschiedlichsten gesellschaftlichen Milieus und mit diversen Hintergr
 ünden zusammen zu bringen.\n\nLust bekommen mitzumachen? Komm gerne vorb
 ei! Unser nächstes Treffen findet am Mittwoch\, 27.05.\, um 19 Uhr im Gr
 ünen Büro statt.\n\nDie Sitzung ist offen auch für Nicht-Mitglieder.
CLASS:PUBLIC
DTSTART;TZID=Europe/Berlin:20260527T190000
DTEND;TZID=Europe/Berlin:20260527T210000
DTSTAMP:20260423T180223
END:VEVENT
END:VCALENDAR