BEGIN:VCALENDAR
VERSION:2.0
PRODID:gruene-augsburg.de
METHOD:PUBLISH
BEGIN:VTIMEZONE
TZID:Europe/Berlin
X-LIC-LOCATION:Europe/Berlin
BEGIN:DAYLIGHT
TZOFFSETFROM:+0100
TZOFFSETTO:+0200
TZNAME:CEST
DTSTART:19700329T020000
RRULE:FREQ=YEARLY;INTERVAL=1;BYDAY=-1SU;BYMONTH=3
END:DAYLIGHT
BEGIN:STANDARD
TZOFFSETFROM:+0200
TZOFFSETTO:+0100
TZNAME:CET
DTSTART:19701025T030000
RRULE:FREQ=YEARLY;INTERVAL=1;BYDAY=-1SU;BYMONTH=10
END:STANDARD
END:VTIMEZONE
BEGIN:VEVENT
UID:e3fbabd2e9732066da163ef7f6ae9579@gruene-augsburg.de
URL;VALUE=URI:https://gruene-augsburg.de/termine/treffen-des-gruenen-arbe
 itskreises-umwelt/
LOCATION:Grünes Büro, Katharinengasse 34, 86150 Augsburg
SUMMARY:Treffen des grünen Arbeitskreises Umwelt
DESCRIPTION;ALTREP="data:text/html,%0A%3Cp%3EIm%20Arbeitskreis%20Umwelt%2
 0und%20Klima%20setzen%20wir%20uns%20als%20Teil%20von%20B%C3%9CNDNIS%2090%
 2FDIE%20GR%C3%9CNEN%20in%20Augsburg%20als%20naturinteressierte%20und%20en
 gagierte%20Augsburger%2Ainnen%20f%C3%BCr%20die%20GR%C3%9CNEN%20Kernthemen
 %20Umwelt-%2C%20Klima-%20und%20Naturschutz%2C%20Energiewende%2C%20%C3%B6k
 ologische%20Landwirtschaft%20und%20gesunde%20Ern%C3%A4hrung%20in%20der%20
 Stadt%20ein.%20Unsere%20Devise%20lautet%3A%20Global%20denken%2C%20lokal%2
 0handeln.%3C%2Fp%3E%0A%0A%0A%0A%3Cp%3EUnsere%20Ziele%20f%C3%BCr%20Augsbur
 g%20sind%3A%20Ressourcen%20Wasser%2C%20Boden%20und%20Luft%20zu%20schonen%
 20sowie%20Emissionen%20so%20weit%20wie%20m%C3%B6glich%20zu%20vermeiden.%2
 0Wir%20setzen%20uns%20f%C3%BCr%20die%20Schaffung%20und%20den%20Erhalt%20v
 on%20Lebensr%C3%A4umen%20f%C3%BCr%20Pflanzen%20und%20Tiere%20ein.%3C%2Fp%
 3E%0A%0A%0A%0A%3Cp%3EWir%20gestalten%20die%20Treffen%2C%20Positionen%20un
 d%20Inhalte%20gemeinschaftlich.%20Der%20Arbeitskreis%20ist%20f%C3%BCr%20a
 lle%20offen%3A%20Sowohl%20f%C3%BCr%20Mitglieder%20von%20B%C3%9CNDNIS%2090
 %2FDIE%20GR%C3%9CNEN%20in%20Augsburg%20als%20auch%20allen%20interessierte
 %20Personen.%20In%20jeder%20Sitzung%20behandeln%20wir%20ein%20besonderes%
 20Thema%20als%20Schwerpunkt.%3C%2Fp%3E%0A%0A%0A%0A%3Cp%3EHast%20Du%20Lust
 %20bekommen%20mitzumachen%3F%20Komm%20gerne%20vorbei%21%20Wir%20treffen%2
 0uns%20einmal%20im%20Monat.%3C%2Fp%3E%0A%0A%0A%0A%3Cp%3EUnser%20n%C3%A4ch
 stes%20Treffen%20findet%20am%C2%A0%3Cstrong%3EDonnerstag%2C%20dem%2020.05
 .%2C%20um%2019%3A30%20im%20Gr%C3%BCnen%20B%C3%BCro%C2%A0%3C%2Fstrong%3Est
 att.%20Auf%20der%20Tagesordnung%20steht%20die%3Cstrong%3E%C2%A0Wahl%20neu
 er%20Sprecher%2Ainnen%3C%2Fstrong%3E.%3C%2Fp%3E%0A":Im Arbeitskreis Umwel
 t und Klima setzen wir uns als Teil von BÜNDNIS 90/DIE GRÜNEN in Augsbu
 rg als naturinteressierte und engagierte Augsburger*innen für die GRÜNE
 N Kernthemen Umwelt-\, Klima- und Naturschutz\, Energiewende\, ökologisc
 he Landwirtschaft und gesunde Ernährung in der Stadt ein. Unsere Devise 
 lautet: Global denken\, lokal handeln.\n\nUnsere Ziele für Augsburg sind
 : Ressourcen Wasser\, Boden und Luft zu schonen sowie Emissionen so weit 
 wie möglich zu vermeiden. Wir setzen uns für die Schaffung und den Erha
 lt von Lebensräumen für Pflanzen und Tiere ein.\n\nWir gestalten die Tr
 effen\, Positionen und Inhalte gemeinschaftlich. Der Arbeitskreis ist fü
 r alle offen: Sowohl für Mitglieder von BÜNDNIS 90/DIE GRÜNEN in Augsb
 urg als auch allen interessierte Personen. In jeder Sitzung behandeln wir
  ein besonderes Thema als Schwerpunkt.\n\nHast Du Lust bekommen mitzumach
 en? Komm gerne vorbei! Wir treffen uns einmal im Monat.\n\nUnser nächste
 s Treffen findet am Donnerstag\, dem 20.05.\, um 19:30 im Grünen Büro
  statt. Auf der Tagesordnung steht die Wahl neuer Sprecher*innen.
CLASS:PUBLIC
DTSTART;TZID=Europe/Berlin:20260520T193000
DTEND;TZID=Europe/Berlin:20260520T210000
DTSTAMP:20260423T180201
END:VEVENT
END:VCALENDAR