BEGIN:VCALENDAR
VERSION:2.0
PRODID:gruene-augsburg.de
METHOD:PUBLISH
BEGIN:VTIMEZONE
TZID:Europe/Berlin
X-LIC-LOCATION:Europe/Berlin
BEGIN:DAYLIGHT
TZOFFSETFROM:+0100
TZOFFSETTO:+0200
TZNAME:CEST
DTSTART:19700329T020000
RRULE:FREQ=YEARLY;INTERVAL=1;BYDAY=-1SU;BYMONTH=3
END:DAYLIGHT
BEGIN:STANDARD
TZOFFSETFROM:+0200
TZOFFSETTO:+0100
TZNAME:CET
DTSTART:19701025T030000
RRULE:FREQ=YEARLY;INTERVAL=1;BYDAY=-1SU;BYMONTH=10
END:STANDARD
END:VTIMEZONE
BEGIN:VEVENT
UID:34eb40097c0e1689bee1f460242b41ed@gruene-augsburg.de
URL;VALUE=URI:https://gruene-augsburg.de/termine/treffen-des-gruenen-orts
 verbands-pfersee/
LOCATION:Il Sorriso, Augsburger Straße 38, Augsburg
SUMMARY:Treffen des grünen Ortsverbands Pfersee
DESCRIPTION;ALTREP="data:text/html,%0A%3Cp%3EEine%20herzliche%20Einladung
 %20zum%20Treffen%20des%20gr%C3%BCnen%20Ortsverbands%20Pfersee%20am%20%3Cs
 trong%3E31.%20M%C3%A4rz%20um%2019%20Uhr%20im%20Il%20Sorriso%3C%2Fstrong%3
 E.%20%3C%2Fp%3E%0A%0A%0A%0A%3Cp%3EWir%20werden%C2%A0%20den%20%3Cstrong%3E
 Kommunalwahlkampf%20Revue%20passieren%20lassen%3C%2Fstrong%3E%20und%20wir
 %20k%C3%B6nnen%20uns%20austauschen%2C%20was%20gut%20war%20und%20was%20wir
 %20besser%20machen%20k%C3%B6nnen.%20Au%C3%9Ferdem%20werden%20wir%20die%20
 %3Cstrong%3EWahlen%20der%20SprecherInnen%3C%2Fstrong%3E%20f%C3%BCr%20den%
 20OV%20Pfersee%20planen.%3C%2Fp%3E%0A%0A%0A%0A%3Cp%3EDie%20Ortsgruppen%20
 unterst%C3%BCtzen%20die%20inhaltliche%20Arbeit%20der%20Augsburger%20Gr%C3
 %BCnen%20und%20greifen%20vor%20Ort%20stadtteilspezifische%20Themen%20auf.
 %20Seien%20es%20Infoabende%20zu%20politischen%20und%20gesellschaftlichen%
 20Themen%20wie%20Alltagsrassismus%2C%20Abfallvermeidung%20oder%20Workshop
 s%20zum%20Thema%20gr%C3%BCner%20leben%2C%20oder%20aber%20durch%20Aktionen
 %20wie%20%C3%B6ffentliche%20Gemeinschaftsbeete%2C%20wollen%20wir%20verbin
 den%2C%20aktivieren%20und%20mobilisieren.%20Komm%20zu%20unseren%20Treffen
 %20vorbei%20und%20bring%20Dich%20ein.%20Nat%C3%BCrlich%20freuen%20wir%20u
 ns%20auch%20%C3%BCber%20Deine%20Vorschl%C3%A4ge%20und%20Unterst%C3%BCtzun
 g%20bei%20der%20Umsetzung.%20Gerne%20kannst%20Du%20auch%20interessierte%2
 0Freund%2Ainnen%20und%20Bekannte%20mitbringen.%20Auch%20ohne%20Mitgliedsc
 haft%20sind%20diese%20herzlich%20willkommen.%3C%2Fp%3E%0A":Eine herzliche
  Einladung zum Treffen des grünen Ortsverbands Pfersee am 31. März um 1
 9 Uhr im Il Sorriso.\n\nWir werden  den Kommunalwahlkampf Revue passiere
 n lassen und wir können uns austauschen\, was gut war und was wir besser
  machen können. Außerdem werden wir die Wahlen der SprecherInnen für d
 en OV Pfersee planen.\n\nDie Ortsgruppen unterstützen die inhaltliche Ar
 beit der Augsburger Grünen und greifen vor Ort stadtteilspezifische Them
 en auf. Seien es Infoabende zu politischen und gesellschaftlichen Themen 
 wie Alltagsrassismus\, Abfallvermeidung oder Workshops zum Thema grüner 
 leben\, oder aber durch Aktionen wie öffentliche Gemeinschaftsbeete\, wo
 llen wir verbinden\, aktivieren und mobilisieren. Komm zu unseren Treffen
  vorbei und bring Dich ein. Natürlich freuen wir uns auch über Deine Vo
 rschläge und Unterstützung bei der Umsetzung. Gerne kannst Du auch inte
 ressierte Freund*innen und Bekannte mitbringen. Auch ohne Mitgliedschaft 
 sind diese herzlich willkommen.
CLASS:PUBLIC
DTSTART;TZID=Europe/Berlin:20260331T190000
DTEND;TZID=Europe/Berlin:20260331T210000
DTSTAMP:20260423T194322
END:VEVENT
END:VCALENDAR